Workbook

Sheet Votanti
A1: SEZIONE | B1: Sezione 1 | C1: Sezione 2 | D1: Sezione 3 | E1: Sezione 4 | F1: Sezione 5 | G1: Sezione 6 | H1: Sezione 7 | I1: Sezione 8 | J1: Sezione 9 | K1: Sezione 10 | L1: TOTALE
A2: VOTANTI ORE 12 | B2: 111 | C2: 69 | D2: 71 | E2: 70 | F2: 109 | G2: 108 | H2: 73 | I2: 98 | J2: 80 | K2: 87 | L2: =SUM(B2:K2) -> 876
A3: VOTANTI ORE 19 | B3: 302 | C3: 230 | D3: 254 | E3: 271 | F3: 313 | G3: 297 | H3: 260 | I3: 316 | J3: 294 | K3: 262 | L3: =SUM(B3:K3) -> 2799
A4: VOTANTI ORE 23 | B4: 360 | C4: 281 | D4: 298 | E4: 315 | F4: 352 | G4: 338 | H4: 307 | I4: 363 | J4: 360 | K4: 306 | L4: =SUM(B4:K4) -> 3280
A5: VOTANTI ORE 15 | B5: 473 | C5: 380 | D5: 379 | E5: 412 | F5: 443 | G5: 439 | H5: 370 | I5: 426 | J5: 495 | K5: 422 | L5: =SUM(B5:K5) -> 4239
A6: ELETTORI | B6: 961 | C6: 804 | D6: 778 | E6: 842 | F6: 862 | G6: 921 | H6: 768 | I6: 827 | J6: 826 | K6: 762 | L6: =SUM(B6:K6) -> 8351
A8: SEZIONE | B8: Sezione 1 | C8: Sezione 2 | D8: Sezione 3 | E8: Sezione 4 | F8: Sezione 5 | G8: Sezione 6 | H8: Sezione 7 | I8: Sezione 8 | J8: Sezione 9 | K8: Sezione 10 | L8: TOTALE
A9: VOTANTI ORE 12 | B9: =B2*100/B$6 -> 11.550468 | C9: =C2*100/C$6 -> 8.5820896 | D9: =D2*100/D$6 -> 9.125964 | E9: =E2*100/E$6 -> 8.3135392 | F9: =F2*100/F$6 -> 12.645012 | G9: =G2*100/G$6 -> 11.726384 | H9: =H2*100/H$6 -> 9.5052083 | I9: =I2*100/I$6 -> 11.85006 | ... L9: =L2*100/L$6 -> 10.489762
A10: VOTANTI ORE 19 | B10: =B3*100/B$6 -> 31.425598 | C10: =C3*100/C$6 -> 28.606965 | D10: =D3*100/D$6 -> 32.647815 | E10: =E3*100/E$6 -> 32.185273 | F10: =F3*100/F$6 -> 36.310905 | G10: =G3*100/G$6 -> 32.247557 | H10: =H3*100/H$6 -> 33.854167 | I10: =I3*100/I$6 -> 38.210399 | ... L10: =L3*100/L$6 -> 33.516944
A11: VOTANTI ORE 23 | B11: =B4*100/B$6 -> 37.460978 | C11: =C4*100/C$6 -> 34.950249 | D11: =D4*100/D$6 -> 38.303342 | E11: =E4*100/E$6 -> 37.410926 | F11: =F4*100/F$6 -> 40.835267 | G11: =G4*100/G$6 -> 36.69924 | H11: =H4*100/H$6 -> 39.973958 | I11: =I4*100/I$6 -> 43.893591 | ... L11: =L4*100/L$6 -> 39.276733
A12: VOTANTI ORE 15 | B12: =B5*100/B$6 -> 49.219563 | C12: =C5*100/C$6 -> 47.263682 | D12: =D5*100/D$6 -> 48.714653 | E12: =E5*100/E$6 -> 48.931116 | F12: =F5*100/F$6 -> 51.392111 | G12: =G5*100/G$6 -> 47.665581 | H12: =H5*100/H$6 -> 48.177083 | I12: =I5*100/I$6 -> 51.511487 | ... L12: =L5*100/L$6 -> 50.760388

Sheet Scrutini - Presidente
B1: VOTI VALIDI | M1: di cui solo presidente
A2: PRESIDENTI | B2: Sezione 1 | C2: Sezione 2 | D2: Sezione 3 | E2: Sezione 4 | F2: Sezione 5 | G2: Sezione 6 | H2: Sezione 7 | I2: Sezione 8 | J2: Sezione 9 | K2: Sezione 10 | L2: TOTALE | M2: Sezione 1 | N2: Sezione 2 | O2: Sezione 3 | P2: Sezione 4 | Q2: Sezione 5 | R2: Sezione 6 | S2: Sezione 7 | T2: Sezione 8 | U2: Sezione 9 | V2: Sezione 10 | W2: TOTALE
A3: RICCARDO SZUMSKI | B3: 22 | C3: 17 | D3: 15 | E3: 24 | F3: 10 | G3: 5 | H3: 13 | I3: 23 | J3: 19 | K3: 26 | L3: =SUM(B3:K3) -> 174 | M3: 2 | N3: 2 | O3: 2 | P3: 4 | Q3: 0 | R3: 2 | S3: 1 | T3: 1 | U3: 3 | V3: 3 | W3: =SUM(M3:V3) -> 20
A4: GIOVANNI MANILDO | B4: 91 | C4: 103 | D4: 73 | E4: 85 | F4: 76 | G4: 68 | H4: 60 | I4: 78 | J4: 105 | K4: 69 | L4: =SUM(B4:K4) -> 808 | M4: 15 | N4: 12 | O4: 13 | P4: 12 | Q4: 16 | R4: 18 | S4: 9 | T4: 15 | U4: 11 | V4: 16 | W4: =SUM(M4:V4) -> 137
A5: FABIO BUI | B5: 13 | C5: 7 | D5: 11 | E5: 5 | F5: 16 | G5: 3 | H5: 2 | I5: 3 | J5: 12 | K5: 5 | L5: =SUM(B5:K5) -> 77 | M5: 1 | N5: 0 | O5: 8 | P5: 2 | Q5: 0 | R5: 0 | S5: 1 | T5: 1 | U5: 3 | V5: 2 | W5: =SUM(M5:V5) -> 18
A6: MARCO RIZZO | B6: 3 | C6: 1 | D6: 3 | E6: 4 | F6: 1 | G6: 3 | H6: 2 | I6: 1 | J6: 1 | K6: 0 | L6: =SUM(B6:K6) -> 19 | M6: 3 | N6: 0 | O6: 2 | P6: 2 | Q6: 0 | R6: 1 | S6: 0 | T6: 0 | U6: 0 | V6: 0 | W6: =SUM(M6:V6) -> 8
A7: ALBERTO STEFANI | B7: 333 | C7: 249 | D7: 273 | E7: 282 | F7: 329 | G7: 347 | H7: 290 | I7: 320 | J7: 348 | K7: 312 | L7: =SUM(B7:K7) -> 3083 | M7: 36 | N7: 17 | O7: 17 | P7: 13 | Q7: 36 | R7: 17 | S7: 19 | T7: 35 | U7: 32 | V7: 20 | W7: =SUM(M7:V7) -> 242
A8: TOTALE voti Presidente di Regione | B8: =SUM(B3:B7) -> 462 | C8: =SUM(C3:C7) -> 377 | D8: =SUM(D3:D7) -> 375 | E8: =SUM(E3:E7) -> 400 | F8: =SUM(F3:F7) -> 432 | G8: =SUM(G3:G7) -> 426 | H8: =SUM(H3:H7) -> 367 | I8: =SUM(I3:I7) -> 425 | ... W8: =SUM(W3:W7) -> 425
A9: schede bianche | B9: 6 | C9: 1 | D9: 1 | E9: 3 | F9: 6 | G9: 6 | H9: 2 | I9: 0 | J9: 6 | K9: 4 | L9: =SUM(B9:K9) -> 35
A10: schede nulle | B10: 5 | C10: 2 | D10: 3 | E10: 9 | F10: 5 | G10: 7 | H10: 1 | I10: 1 | J10: 4 | K10: 6 | L10: =SUM(B10:K10) -> 43
A11: schede contestate | B11: 0 | C11: 0 | D11: 0 | E11: 0 | F11: 0 | G11: 0 | H11: 0 | I11: 0 | J11: 0 | K11: 0 | L11: =SUM(B11:K11) -> 0
A12: TOTALE votanti | B12: =SUM(B8:B11) -> 473 | C12: =SUM(C8:C11) -> 380 | D12: =SUM(D8:D11) -> 379 | E12: =SUM(E8:E11) -> 412 | F12: =SUM(F8:F11) -> 443 | G12: =SUM(G8:G11) -> 439 | H12: =SUM(H8:H11) -> 370 | I12: =SUM(I8:I11) -> 426 | ... L12: =SUM(L8:L11) -> 4239

Sheet Scrutini - Liste
C1: VOTI VALIDI
A2: PRESIDENTI | B2: LISTE | C2: Sezione 1 | D2: Sezione 2 | E2: Sezione 3 | F2: Sezione 4 | G2: Sezione 5 | H2: Sezione 6 | I2: Sezione 7 | J2: Sezione 8 | K2: Sezione 9 | L2: Sezione 10 | M2: TOTALE
A3: RICCARDO SZUMSKI | B3: SZUMSKI RESISTERE VENETO | C3: 20 | D3: 15 | E3: 13 | F3: 20 | G3: 10 | H3: 3 | I3: 13 | J3: 22 | K3: 16 | L3: 23 | M3: =SUM(C3:L3) -> 155
A4: GIOVANNI MANILDO | B4: LE CIVICHE VENETE | C4: 1 | D4: 5 | E4: 1 | F4: 3 | G4: 1 | H4: 2 | I4: 1 | J4: 1 | K4: 1 | L4: 2 | M4: =SUM(C4:L4) -> 18
B5: MOVIMENTO 5 STELLE | C5: 10 | D5: 18 | E5: 1 | F5: 7 | G5: 5 | H5: 10 | I5: 3 | J5: 4 | K5: 9 | L5: 4 | M5: =SUM(C5:L5) -> 71
B6: ALLEANZA VERDI E SINISTRA | C6: 28 | D6: 15 | E6: 21 | F6: 7 | G6: 10 | H6: 9 | I6: 8 | J6: 13 | K6: 22 | L6: 11 | M6: =SUM(C6:L6) -> 144
B7: UNITI PER MANILDO PRESIDENTE | C7: 4 | D7: 10 | E7: 11 | F7: 12 | G7: 7 | H7: 9 | I7: 8 | J7: 5 | K7: 13 | L7: 10 | M7: =SUM(C7:L7) -> 89
B8: PARTITO DEMOCRATICO | C8: 37 | D8: 39 | E8: 23 | F8: 41 | G8: 32 | H8: 27 | I8: 29 | J8: 39 | K8: 46 | L8: 25 | M8: =SUM(C8:L8) -> 338
B9: PACE SALUTE LAVORO RIFONDAZIONE PARTITO COMUNISTA | C9: 0 | D9: 1 | E9: 3 | F9: 2 | G9: 3 | H9: 1 | I9: 0 | J9: 1 | K9: 3 | L9: 0 | M9: =SUM(C9:L9) -> 14
B10: VOLT EUROPA | C10: 3 | D10: 1 | E10: 0 | F10: 0 | G10: 2 | H10: 0 | I10: 0 | J10: 0 | K10: 1 | L10: 1 | M10: =SUM(C10:L10) -> 8
A11: FABIO BUI | B11: POPOLARI PER IL VENETO | C11: 11 | D11: 7 | E11: 3 | F11: 3 | G11: 16 | H11: 1 | I11: 1 | J11: 2 | K11: 8 | L11: 3 | M11: =SUM(C11:L11) -> 55
A12: MARCO RIZZO | B12: DEMOCRAZIA SOVRANA POPOLARE | C12: 0 | D12: 0 | E12: 1 | F12: 2 | G12: 1 | H12: 2 | I12: 1 | J12: 1 | K12: 1 | L12: 0 | M12: =SUM(C12:L12) -> 9
A13: ALBERTO STEFANI | B13: FRATELLI D'ITALIA GIORGIA MELONI | C13: 52 | D13: 31 | E13: 33 | F13: 45 | G13: 31 | H13: 44 | I13: 39 | J13: 30 | K13: 47 | L13: 39 | M13: =SUM(C13:L13) -> 391
B14: LIGA VENETA REPUBBLICA | C14: 12 | D14: 5 | E14: 9 | F14: 7 | G14: 7 | H14: 15 | I14: 12 | J14: 16 | K14: 7 | L14: 8 | M14: =SUM(C14:L14) -> 98
B15: FORZA ITALIA - PPE - AUTONOMIA PER IL VENETO | C15: 11 | D15: 18 | E15: 11 | F15: 11 | G15: 18 | H15: 13 | I15: 9 | J15: 25 | K15: 30 | L15: 14 | M15: =SUM(C15:L15) -> 160
B16: NOI MODERATI | C16: 2 | D16: 3 | E16: 4 | F16: 2 | G16: 3 | H16: 6 | I16: 0 | J16: 2 | K16: 1 | L16: 2 | M16: =SUM(C16:L16) -> 25
B17: LEGA - LIGA VENETA | C17: 214 | D17: 171 | E17: 189 | F17: 197 | G17: 228 | H17: 238 | I17: 208 | J17: 201 | K17: 226 | L17: 217 | M17: =SUM(C17:L17) -> 2089
B18: UNIONE DI CENTRO | C18: 0 | D18: 6 | E18: 10 | F18: 8 | G18: 6 | H18: 3 | I18: 5 | J18: 8 | K18: 5 | L18: 7 | M18: =SUM(C18:L18) -> 58
A19: Totale voti Lista Circoscrizionale | C19: =SUM(C3:C18) -> 405 | D19: =SUM(D3:D18) -> 345 | E19: =SUM(E3:E18) -> 333 | F19: =SUM(F3:F18) -> 367 | G19: =SUM(G3:G18) -> 380 | H19: =SUM(H3:H18) -> 383 | I19: =SUM(I3:I18) -> 337 | J19: =SUM(J3:J18) -> 370 | ... M19: =SUM(M3:M18) -> 3722
A20: Voti presidente con voti liste contestati | C20: 0 | D20: 1 | E20: 0 | F20: 0 | G20: 0 | H20: 5 | I20: 0 | J20: 3 | K20: 0 | L20: 5
A21: Voti solo presidente (da scheda precedente) | C21: ='Scrutini - Presidente'!M8 -> 57 | D21: ='Scrutini - Presidente'!N8 -> 31 | E21: ='Scrutini - Presidente'!O8 -> 42 | F21: ='Scrutini - Presidente'!P8 -> 33 | G21: ='Scrutini - Presidente'!Q8 -> 52 | H21: ='Scrutini - Presidente'!R8 -> 38 | I21: ='Scrutini - Presidente'!S8 -> 30 | J21: ='Scrutini - Presidente'!T8 -> 52 | ... L21: ='Scrutini - Presidente'!V8 -> 41
A22: VOTI VALIDI | C22: =C19+C20+C21 -> 462 | D22: =D19+D20+D21 -> 377 | E22: =E19+E20+E21 -> 375 | F22: =F19+F20+F21 -> 400 | G22: =G19+G20+G21 -> 432 | H22: =H19+H20+H21 -> 426 | I22: =I19+I20+I21 -> 367 | J22: =J19+J20+J21 -> 425 | ... L22: =L19+L20+L21 -> 412
A23: schede bianche | C23: ='Scrutini - Presidente'!B9 -> 6 | D23: ='Scrutini - Presidente'!C9 -> 1 | E23: ='Scrutini - Presidente'!D9 -> 1 | F23: ='Scrutini - Presidente'!E9 -> 3 | G23: ='Scrutini - Presidente'!F9 -> 6 | H23: ='Scrutini - Presidente'!G9 -> 6 | I23: ='Scrutini - Presidente'!H9 -> 2 | J23: ='Scrutini - Presidente'!I9 -> 0 | ... L23: ='Scrutini - Presidente'!K9 -> 4
A24: schede nulle | C24: ='Scrutini - Presidente'!B10 -> 5 | D24: ='Scrutini - Presidente'!C10 -> 2 | E24: ='Scrutini - Presidente'!D10 -> 3 | F24: ='Scrutini - Presidente'!E10 -> 9 | G24: ='Scrutini - Presidente'!F10 -> 5 | H24: ='Scrutini - Presidente'!G10 -> 7 | I24: ='Scrutini - Presidente'!H10 -> 1 | J24: ='Scrutini - Presidente'!I10 -> 1 | ... L24: ='Scrutini - Presidente'!K10 -> 6
A25: schede contestate | C25: ='Scrutini - Presidente'!B11 -> 0 | D25: ='Scrutini - Presidente'!C11 -> 0 | E25: ='Scrutini - Presidente'!D11 -> 0 | F25: ='Scrutini - Presidente'!E11 -> 0 | G25: ='Scrutini - Presidente'!F11 -> 0 | H25: ='Scrutini - Presidente'!G11 -> 0 | I25: ='Scrutini - Presidente'!H11 -> 0 | J25: ='Scrutini - Presidente'!I11 -> 0 | ... L25: ='Scrutini - Presidente'!K11 -> 0
A26: TOTALE votanti | C26: =C19+C20+C21+C23+C24+C25 -> 473 | D26: =D19+D20+D21+D23+D24+D25 -> 380 | E26: =E19+E20+E21+E23+E24+E25 -> 379 | F26: =F19+F20+F21+F23+F24+F25 -> 412 | G26: =G19+G20+G21+G23+G24+G25 -> 443 | H26: =H19+H20+H21+H23+H24+H25 -> 439 | I26: =I19+I20+I21+I23+I24+I25 -> 370 | J26: =J19+J20+J21+J23+J24+J25 -> 426 | ... L26: =L19+L20+L21+L23+L24+L25 -> 422

Sheet Scrutini - Preferenze
A1: LISTA | B1: NUMERO | C1: CANDIDATO | D1: SEZIONE 1 | E1: SEZIONE 2 | F1: SEZIONE 3 | G1: SEZIONE 4 | H1: SEZIONE 5 | I1: SEZIONE 6 | J1: SEZIONE 7 | K1: SEZIONE 8 | L1: SEZIONE 9 | M1: SEZIONE 10 | N1: TOTALE
A3: SZUMSKI RESISTERE VENETO | B3: 1 | C3: RICCARDO SZUMSKI | D3: 9 | E3: 6 | F3: 8 | G3: 5 | H3: 2 | I3: 0 | J3: 2 | K3: 8 | L3: 3 | M3: 3 | N3: =SUM(D3:M3) -> 46
B4: 2 | C4: CARMEN AMADIO | D4: 0 | E4: 0 | F4: 0 | G4: 0 | H4: 0 | I4: 0 | J4: 0 | K4: 0 | L4: 0 | M4: 3 | N4: =SUM(D4:M4) -> 3
B5: 3 | C5: FERDINANDO DONOLATO | D5: 0 | E5: 0 | F5: 0 | G5: 0 | H5: 2 | I5: 0 | J5: 0 | K5: 0 | L5: 1 | M5: 0 | N5: =SUM(D5:M5) -> 3
B6: 4 | C6: TIZIANA BERTINOTTI | D6: 0 | E6: 0 | F6: 0 | G6: 0 | H6: 0 | I6: 1 | J6: 0 | K6: 0 | L6: 0 | M6: 0 | N6: =SUM(D6:M6) -> 1
B7: 5 | C7: MANUEL FAGAN | D7: 0 | E7: 0 | F7: 0 | G7: 1 | H7: 1 | I7: 0 | J7: 0 | K7: 0 | L7: 0 | M7: 0 | N7: =SUM(D7:M7) -> 2
B8: 6 | C8: SARA CUNIAL | D8: 0 | E8: 2 | F8: 2 | G8: 0 | H8: 2 | I8: 0 | J8: 1 | K8: 2 | L8: 1 | M8: 2 | N8: =SUM(D8:M8) -> 12
B9: 7 | C9: GIANFRANCO VOLPIN | D9: 0 | E9: 0 | F9: 0 | G9: 2 | H9: 0 | I9: 0 | J9: 0 | K9: 0 | L9: 1 | M9: 0 | N9: =SUM(D9:M9) -> 3
B10: 8 | C10: LISA SPADA | D10: 1 | E10: 0 | F10: 2 | G10: 2 | H10: 1 | I10: 0 | J10: 1 | K10: 2 | L10: 0 | M10: 0 | N10: =SUM(D10:M10) -> 9
B11: 9 | C11: MICHELE FAVERO | D11: 1 | E11: 1 | F11: 1 | G11: 5 | H11: 1 | I11: 3 | J11: 7 | K11: 3 | L11: 1 | M11: 10 | N11: =SUM(D11:M11) -> 33
A13: LE CIVICHE VENETE | B13: 1 | C13: ARTURO LORENZONI | D13: 0 | E13: 0 | F13: 0 | G13: 2 | H13: 0 | I13: 2 | J13: 1 | K13: 0 | L13: 0 | M13: 1 | N13: =SUM(D13:M13) -> 6
B14: 2 | C14: ANNALISA DI MASO | D14: 0 | E14: 0 | F14: 1 | G14: 0 | H14: 0 | I14: 0 | J14: 0 | K14: 0 | L14: 0 | M14: 0 | N14: =SUM(D14:M14) -> 1
B15: 3 | C15: FILIPPO ROSASPINA | D15: 0 | E15: 0 | F15: 0 | G15: 0 | H15: 0 | I15: 0 | J15: 0 | K15: 0 | L15: 0 | M15: 0 | N15: =SUM(D15:M15) -> 0
B16: 4 | C16: EVELYN NWABIANI NWOAKENYE | D16: 0 | E16: 0 | F16: 0 | G16: 0 | H16: 0 | I16: 0 | J16: 0 | K16: 0 | L16: 0 | M16: 0 | N16: =SUM(D16:M16) -> 0
B17: 5 | C17: RENZO VOLPIN | D17: 0 | E17: 0 | F17: 0 | G17: 0 | H17: 0 | I17: 0 | J17: 0 | K17: 0 | L17: 0 | M17: 0 | N17: =SUM(D17:M17) -> 0
B18: 6 | C18: SARA VANIN | D18: 0 | E18: 0 | F18: 0 | G18: 0 | H18: 0 | I18: 1 | J18: 0 | K18: 0 | L18: 0 | M18: 0 | N18: =SUM(D18:M18) -> 1
B19: 7 | C19: GIOVANNI MENEGATO | D19: 0 | E19: 0 | F19: 0 | G19: 0 | H19: 0 | I19: 0 | J19: 0 | K19: 0 | L19: 0 | M19: 0 | N19: =SUM(D19:M19) -> 0
B20: 8 | C20: ROSSELLA CENDRON | D20: 0 | E20: 0 | F20: 0 | G20: 2 | H20: 0 | I20: 0 | J20: 0 | K20: 0 | L20: 0 | M20: 0 | N20: =SUM(D20:M20) -> 2
A22: MOVIMENTO 5 STELLE | B22: 1 | C22: DANIANO BIASIOLO | D22: 0 | E22: 0 | F22: 0 | G22: 0 | H22: 0 | I22: 0 | J22: 0 | K22: 0 | L22: 1 | M22: 0 | N22: =SUM(D22:M22) -> 1
B23: 2 | C23: SILVIA SCHIAVON | D23: 2 | E23: 0 | F23: 0 | G23: 2 | H23: 0 | I23: 3 | J23: 1 | K23: 0 | L23: 0 | M23: 0 | N23: =SUM(D23:M23) -> 8
B24: 3 | C24: MARCO PACCAGNELLA | D24: 0 | E24: 0 | F24: 0 | G24: 0 | H24: 0 | I24: 0 | J24: 0 | K24: 0 | L24: 1 | M24: 0 | N24: =SUM(D24:M24) -> 1
B25: 4 | C25: ORNELLA MARANGON | D25: 0 | E25: 0 | F25: 0 | G25: 0 | H25: 0 | I25: 0 | J25: 0 | K25: 0 | L25: 1 | M25: 0 | N25: =SUM(D25:M25) -> 1
B26: 5 | C26: GIACOMO CUSUMANO | D26: 0 | E26: 2 | F26: 0 | G26: 0 | H26: 0 | I26: 0 | J26: 1 | K26: 0 | L26: 0 | M26: 0 | N26: =SUM(D26:M26) -> 3
B27: 6 | C27: TAMARA LAZZARIN | D27: 0 | E27: 1 | F27: 0 | G27: 0 | H27: 0 | I27: 1 | J27: 0 | K27: 0 | L27: 0 | M27: 0 | N27: =SUM(D27:M27) -> 2
B28: 7 | C28: NICOLA PIZZATO | D28: 2 | E28: 0 | F28: 0 | G28: 0 | H28: 0 | I28: 1 | J28: 0 | K28: 0 | L28: 0 | M28: 0 | N28: =SUM(D28:M28) -> 3
A30: ALLEANZA VERDI E SINISTRA | B30: 1 | C30: ELENA OSTANEL | D30: 5 | E30: 9 | F30: 10 | G30: 1 | H30: 6 | I30: 0 | J30: 3 | K30: 5 | L30: 17 | M30: 4 | N30: =SUM(D30:M30) -> 60
B31: 2 | C31: ALESSANDRO TURETTA | D31: 0 | E31: 0 | F31: 0 | G31: 0 | H31: 2 | I31: 0 | J31: 0 | K31: 0 | L31: 1 | M31: 1 | N31: =SUM(D31:M31) -> 4
B32: 3 | C32: MARIA ELENA MARTINEZ | D32: 1 | E32: 0 | F32: 0 | G32: 0 | H32: 0 | I32: 0 | J32: 0 | K32: 0 | L32: 0 | M32: 2 | N32: =SUM(D32:M32) -> 3
B33: 4 | C33: GIANMARIA GIOGA | D33: 1 | E33: 1 | F33: 1 | G33: 0 | H33: 0 | I33: 0 | J33: 0 | K33: 0 | L33: 2 | M33: 0 | N33: =SUM(D33:M33) -> 5
B34: 5 | C34: LUCIA BASSO | D34: 4 | E34: 1 | F34: 4 | G34: 0 | H34: 0 | I34: 1 | J34: 3 | K34: 0 | L34: 1 | M34: 0 | N34: =SUM(D34:M34) -> 14
B35: 6 | C35: ANDREA RUZZANTE | D35: 7 | E35: 4 | F35: 12 | G35: 0 | H35: 0 | I35: 1 | J35: 4 | K35: 4 | L35: 9 | M35: 0 | N35: =SUM(D35:M35) -> 41
B36: 7 | C36: ELISABETTA CEDRETTI | D36: 0 | E36: 0 | F36: 0 | G36: 0 | H36: 0 | I36: 0 | J36: 0 | K36: 1 | L36: 0 | M36: 0 | N36: =SUM(D36:M36) -> 1
B37: 8 | C37: MARCO SANGATI | D37: 0 | E37: 0 | F37: 0 | G37: 0 | H37: 0 | I37: 0 | J37: 0 | K37: 0 | L37: 0 | M37: 0 | N37: =SUM(D37:M37) -> 0
B38: 9 | C38: FRANCESCA CITRAN | D38: 1 | E38: 0 | F38: 2 | G38: 0 | H38: 0 | I38: 0 | J38: 0 | K38: 0 | L38: 0 | M38: 0 | N38: =SUM(D38:M38) -> 3
A40: UNITI PER MANILDO PRESIDENTE | B40: 1 | C40: SILVIA FATTORE | D40: 0 | E40: 2 | F40: 3 | G40: 2 | H40: 1 | I40: 2 | J40: 0 | K40: 3 | L40: 4 | M40: 6 | N40: =SUM(D40:M40) -> 23
B41: 2 | C41: ANTONINO PIPITONE | D41: 0 | E41: 1 | F41: 0 | G41: 0 | H41: 0 | I41: 1 | J41: 0 | K41: 0 | L41: 0 | M41: 0 | N41: =SUM(D41:M41) -> 2
B42: 3 | C42: MONICA BALBINOT | D42: 0 | E42: 0 | F42: 0 | G42: 0 | H42: 0 | I42: 0 | J42: 0 | K42: 0 | L42: 0 | M42: 0 | N42: =SUM(D42:M42) -> 0
B43: 4 | C43: SIMONE LODDONI | D43: 0 | E43: 0 | F43: 0 | G43: 0 | H43: 0 | I43: 0 | J43: 0 | K43: 0 | L43: 0 | M43: 0 | N43: =SUM(D43:M43) -> 0
B44: 5 | C44: MARIA ANTONIETTA AUDITORE | D44: 0 | E44: 0 | F44: 0 | G44: 0 | H44: 0 | I44: 0 | J44: 0 | K44: 0 | L44: 0 | M44: 0 | N44: =SUM(D44:M44) -> 0
B45: 6 | C45: INNOCENTE MARANGON DETTO STEFANO | D45: 0 | E45: 0 | F45: 0 | G45: 0 | H45: 0 | I45: 0 | J45: 0 | K45: 0 | L45: 0 | M45: 1 | N45: =SUM(D45:M45) -> 1
B46: 7 | C46: ILARIA STORTI | D46: 0 | E46: 0 | F46: 0 | G46: 0 | H46: 0 | I46: 0 | J46: 0 | K46: 0 | L46: 0 | M46: 0 | N46: =SUM(D46:M46) -> 0
B47: 8 | C47: VALENTINO PITTARELLO | D47: 0 | E47: 1 | F47: 0 | G47: 0 | H47: 0 | I47: 0 | J47: 0 | K47: 0 | L47: 2 | M47: 0 | N47: =SUM(D47:M47) -> 3
B48: 9 | C48: CRISTIANA ZANGROSSI | D48: 0 | E48: 1 | F48: 0 | G48: 0 | H48: 0 | I48: 0 | J48: 0 | K48: 0 | L48: 0 | M48: 0 | N48: =SUM(D48:M48) -> 1
A50: PARTITO DEMOCRATICO | B50: 1 | C50: VANESSA CAMANI | D50: 9 | E50: 12 | F50: 1 | G50: 4 | H50: 3 | I50: 7 | J50: 4 | K50: 13 | L50: 9 | M50: 3 | N50: =SUM(D50:M50) -> 65
B51: 2 | C51: ANDREA MICALIZZI | D51: 2 | E51: 6 | F51: 5 | G51: 14 | H51: 4 | I51: 5 | J51: 6 | K51: 10 | L51: 10 | M51: 6 | N51: =SUM(D51:M51) -> 68
B52: 3 | C52: SABRINA DONI | D52: 3 | E52: 9 | F52: 5 | G52: 9 | H52: 1 | I52: 2 | J52: 1 | K52: 1 | L52: 7 | M52: 4 | N52: =SUM(D52:M52) -> 42
B53: 4 | C53: ALESSANDRO DAL CORSO | D53: 12 | E53: 6 | F53: 3 | G53: 1 | H53: 1 | I53: 1 | J53: 4 | K53: 5 | L53: 12 | M53: 0 | N53: =SUM(D53:M53) -> 45
B54: 5 | C54: ELEONORA GUIZZARO | D54: 0 | E54: 1 | F54: 0 | G54: 0 | H54: 0 | I54: 2 | J54: 0 | K54: 0 | L54: 2 | M54: 0 | N54: =SUM(D54:M54) -> 5
B55: 6 | C55: STEFANO POZZI | D55: 0 | E55: 0 | F55: 0 | G55: 1 | H55: 0 | I55: 0 | J55: 0 | K55: 0 | L55: 0 | M55: 0 | N55: =SUM(D55:M55) -> 1
B56: 7 | C56: VIRGINIA LIBERO | D56: 1 | E56: 0 | F56: 0 | G56: 4 | H56: 4 | I56: 0 | J56: 3 | K56: 2 | L56: 1 | M56: 1 | N56: =SUM(D56:M56) -> 16
B57: 8 | C57: LUCIANO SGUOTTI | D57: 0 | E57: 0 | F57: 0 | G57: 0 | H57: 0 | I57: 0 | J57: 1 | K57: 0 | L57: 0 | M57: 1 | N57: =SUM(D57:M57) -> 2
B58: 9 | C58: FRANCA BORTOLAMEI | D58: 0 | E58: 0 | F58: 0 | G58: 0 | H58: 0 | I58: 0 | J58: 0 | K58: 0 | L58: 0 | M58: 0 | N58: =SUM(D58:M58) -> 0
A60: PACE SALUTE LAVORO RIFONDAZIONE PARTITO COMUNISTA | B60: 1 | C60: PAOLO BENVEGNU' | D60: 0 | E60: 0 | F60: 1 | G60: 0 | H60: 0 | I60: 1 | J60: 0 | K60: 0 | L60: 0 | M60: 0 | N60: =SUM(D60:M60) -> 2
B61: 2 | C61: GIORGIA D'ANDREA | D61: 0 | E61: 0 | F61: 0 | G61: 0 | H61: 0 | I61: 0 | J61: 0 | K61: 0 | L61: 0 | M61: 0 | N61: =SUM(D61:M61) -> 0
B62: 3 | C62: BOUCHAIB TANJI | D62: 0 | E62: 0 | F62: 0 | G62: 0 | H62: 0 | I62: 0 | J62: 0 | K62: 0 | L62: 0 | M62: 0 | N62: =SUM(D62:M62) -> 0
B63: 4 | C63: LATIFA AKOUNACH | D63: 0 | E63: 0 | F63: 0 | G63: 0 | H63: 0 | I63: 0 | J63: 0 | K63: 0 | L63: 0 | M63: 0 | N63: =SUM(D63:M63) -> 0
B64: 5 | C64: AMADY CISSE | D64: 0 | E64: 0 | F64: 0 | G64: 0 | H64: 0 | I64: 0 | J64: 0 | K64: 0 | L64: 0 | M64: 0 | N64: =SUM(D64:M64) -> 0
B65: 6 | C65: STEFANIA AQUILINI | D65: 0 | E65: 0 | F65: 0 | G65: 0 | H65: 0 | I65: 0 | J65: 0 | K65: 0 | L65: 0 | M65: 0 | N65: =SUM(D65:M65) -> 0
B66: 7 | C66: DANIELE RAGGIOTTO | D66: 0 | E66: 0 | F66: 0 | G66: 0 | H66: 0 | I66: 0 | J66: 0 | K66: 0 | L66: 0 | M66: 0 | N66: =SUM(D66:M66) -> 0
B67: 8 | C67: SARAH LINDA BEIDAOUI | D67: 0 | E67: 0 | F67: 0 | G67: 0 | H67: 0 | I67: 0 | J67: 0 | K67: 0 | L67: 0 | M67: 0 | N67: =SUM(D67:M67) -> 0
B68: 9 | C68: MATTIA CHINELLO | D68: 0 | E68: 0 | F68: 0 | G68: 0 | H68: 0 | I68: 0 | J68: 0 | K68: 0 | L68: 0 | M68: 0 | N68: =SUM(D68:M68) -> 0
A70: VOLT EUROPA | B70: 1 | C70: EDOARDO SINIGAGLIA | D70: 0 | E70: 0 | F70: 0 | G70: 0 | H70: 0 | I70: 0 | J70: 0 | K70: 0 | L70: 0 | M70: 0 | N70: =SUM(D70:M70) -> 0
B71: 2 | C71: LUCIA BASTAROLO | D71: 0 | E71: 0 | F71: 0 | G71: 0 | H71: 1 | I71: 0 | J71: 0 | K71: 0 | L71: 0 | M71: 1 | N71: =SUM(D71:M71) -> 2
B72: 3 | C72: MATTIA FRANCESCO ALBERTIN | D72: 0 | E72: 0 | F72: 0 | G72: 0 | H72: 0 | I72: 0 | J72: 0 | K72: 0 | L72: 0 | M72: 0 | N72: =SUM(D72:M72) -> 0
B73: 4 | C73: MARGHERITA RIGOLI | D73: 0 | E73: 0 | F73: 0 | G73: 0 | H73: 1 | I73: 0 | J73: 0 | K73: 0 | L73: 0 | M73: 0 | N73: =SUM(D73:M73) -> 1
B74: 5 | C74: LUCA CIARAVELLA | D74: 0 | E74: 0 | F74: 0 | G74: 0 | H74: 0 | I74: 0 | J74: 0 | K74: 0 | L74: 0 | M74: 0 | N74: =SUM(D74:M74) -> 0
B75: 6 | C75: SOFIA MARCHESINI | D75: 0 | E75: 0 | F75: 0 | G75: 0 | H75: 0 | I75: 0 | J75: 0 | K75: 0 | L75: 0 | M75: 0 | N75: =SUM(D75:M75) -> 0
B76: 7 | C76: MARCO SCATTOLIN | D76: 0 | E76: 0 | F76: 0 | G76: 0 | H76: 0 | I76: 0 | J76: 0 | K76: 0 | L76: 0 | M76: 1 | N76: =SUM(D76:M76) -> 1
B77: 8 | C77: REBECCA PARRINO | D77: 0 | E77: 0 | F77: 0 | G77: 0 | H77: 0 | I77: 0 | J77: 0 | K77: 0 | L77: 0 | M77: 0 | N77: =SUM(D77:M77) -> 0
A79: POPOLARI PER IL VENETO | B79: 1 | C79: FABIO BUI | D79: 7 | E79: 1 | F79: 1 | G79: 1 | H79: 9 | I79: 0 | J79: 0 | K79: 1 | L79: 2 | M79: 1 | N79: =SUM(D79:M79) -> 23
B80: 2 | C80: PAOLA CREPALDI | D80: 0 | E80: 0 | F80: 0 | G80: 0 | H80: 0 | I80: 0 | J80: 0 | K80: 0 | L80: 0 | M80: 0 | N80: =SUM(D80:M80) -> 0
B81: 3 | C81: ALBERTO DANIELI | D81: 0 | E81: 0 | F81: 0 | G81: 0 | H81: 0 | I81: 0 | J81: 0 | K81: 0 | L81: 0 | M81: 0 | N81: =SUM(D81:M81) -> 0
B82: 4 | C82: LAURA FRACCALANZA | D82: 0 | E82: 0 | F82: 0 | G82: 0 | H82: 1 | I82: 0 | J82: 0 | K82: 1 | L82: 0 | M82: 0 | N82: =SUM(D82:M82) -> 2
B83: 5 | C83: ALESSANDRO GIANESINI | D83: 2 | E83: 0 | F83: 0 | G83: 1 | H83: 2 | I83: 1 | J83: 0 | K83: 0 | L83: 1 | M83: 0 | N83: =SUM(D83:M83) -> 7
B84: 6 | C84: GIULIANA TREVISAN | D84: 0 | E84: 4 | F84: 0 | G84: 0 | H84: 2 | I84: 0 | J84: 0 | K84: 0 | L84: 1 | M84: 3 | N84: =SUM(D84:M84) -> 10
B85: 7 | C85: DAVIDE GHEGIN | D85: 0 | E85: 1 | F85: 0 | G85: 1 | H85: 1 | I85: 0 | J85: 0 | K85: 0 | L85: 0 | M85: 0 | N85: =SUM(D85:M85) -> 3
B86: 8 | C86: ANGELA TRIARICO | D86: 0 | E86: 0 | F86: 0 | G86: 0 | H86: 0 | I86: 0 | J86: 0 | K86: 0 | L86: 0 | M86: 0 | N86: =SUM(D86:M86) -> 0
B87: 9 | C87: ANDREA LOVISETTO | D87: 0 | E87: 0 | F87: 0 | G87: 0 | H87: 0 | I87: 0 | J87: 0 | K87: 0 | L87: 0 | M87: 0 | N87: =SUM(D87:M87) -> 0
A89: DEMOCRAZIA SOVRANA POPOLARE | B89: 1 | C89: MARCO RIZZO | D89: 0 | E89: 0 | F89: 0 | G89: 1 | H89: 1 | I89: 0 | J89: 1 | K89: 1 | L89: 1 | M89: 0 | N89: =SUM(D89:M89) -> 5
B90: 2 | C90: MONICA FINCO | D90: 0 | E90: 0 | F90: 0 | G90: 0 | H90: 0 | I90: 0 | J90: 0 | K90: 0 | L90: 0 | M90: 0 | N90: =SUM(D90:M90) -> 0
B91: 3 | C91: LUCIO PERIN | D91: 0 | E91: 0 | F91: 0 | G91: 0 | H91: 0 | I91: 0 | J91: 0 | K91: 0 | L91: 0 | M91: 0 | N91: =SUM(D91:M91) -> 0
B92: 4 | C92: SONIA FRANZOI | D92: 0 | E92: 0 | F92: 0 | G92: 0 | H92: 0 | I92: 0 | J92: 0 | K92: 0 | L92: 0 | M92: 0 | N92: =SUM(D92:M92) -> 0
B93: 5 | C93: FRANCESCO TOSCANO | D93: 0 | E93: 0 | F93: 0 | G93: 0 | H93: 0 | I93: 0 | J93: 1 | K93: 0 | L93: 0 | M93: 0 | N93: =SUM(D93:M93) -> 1
B94: 6 | C94: FLAVIANA DANIELA FLORIS | D94: 0 | E94: 0 | F94: 0 | G94: 0 | H94: 0 | I94: 0 | J94: 0 | K94: 0 | L94: 0 | M94: 0 | N94: =SUM(D94:M94) -> 0
B95: 7 | C95: FRANCESCO MARAGNO | D95: 0 | E95: 0 | F95: 0 | G95: 0 | H95: 0 | I95: 0 | J95: 0 | K95: 0 | L95: 0 | M95: 0 | N95: =SUM(D95:M95) -> 0
B96: 8 | C96: PATRIZIA CAPRONI | D96: 0 | E96: 0 | F96: 0 | G96: 0 | H96: 0 | I96: 0 | J96: 0 | K96: 0 | L96: 0 | M96: 0 | N96: =SUM(D96:M96) -> 0
B97: 9 | C97: JACOPO ZANELLA | D97: 0 | E97: 0 | F97: 0 | G97: 0 | H97: 0 | I97: 0 | J97: 0 | K97: 0 | L97: 0 | M97: 0 | N97: =SUM(D97:M97) -> 0
A99: FRATELLI D'ITALIA GIORGIA MELONI | B99: 1 | C99: ENOCH SORANZO | D99: 4 | E99: 0 | F99: 5 | G99: 0 | H99: 0 | I99: 1 | J99: 6 | K99: 2 | L99: 2 | M99: 1 | N99: =SUM(D99:M99) -> 21
B100: 2 | C100: ANTONELLA ARGENTI | D100: 7 | E100: 3 | F100: 5 | G100: 10 | H100: 8 | I100: 13 | J100: 12 | K100: 6 | L100: 12 | M100: 12 | N100: =SUM(D100:M100) -> 88
B101: 3 | C101: MASSIMO PULIN | D101: 0 | E101: 0 | F101: 1 | G101: 1 | H101: 0 | I101: 1 | J101: 0 | K101: 0 | L101: 0 | M101: 0 | N101: =SUM(D101:M101) -> 3
B102: 4 | C102: ELISABETTA BALDI | D102: 1 | E102: 3 | F102: 0 | G102: 1 | H102: 0 | I102: 1 | J102: 0 | K102: 0 | L102: 0 | M102: 0 | N102: =SUM(D102:M102) -> 6
B103: 5 | C103: FILIPPO GIACINTI | D103: 3 | E103: 2 | F103: 5 | G103: 3 | H103: 0 | I103: 0 | J103: 2 | K103: 0 | L103: 2 | M103: 3 | N103: =SUM(D103:M103) -> 20
B104: 6 | C104: PAOLA GEREMIA | D104: 1 | E104: 0 | F104: 3 | G104: 0 | H104: 0 | I104: 0 | J104: 3 | K104: 1 | L104: 1 | M104: 0 | N104: =SUM(D104:M104) -> 9
B105: 7 | C105: MATTEO TURETTA | D105: 1 | E105: 0 | F105: 0 | G105: 1 | H105: 0 | I105: 0 | J105: 0 | K105: 0 | L105: 0 | M105: 0 | N105: =SUM(D105:M105) -> 2
B106: 8 | C106: ELENA CAPPELLINI | D106: 0 | E106: 0 | F106: 2 | G106: 2 | H106: 0 | I106: 2 | J106: 1 | K106: 0 | L106: 0 | M106: 1 | N106: =SUM(D106:M106) -> 8
B107: 9 | C107: LUCIANO SANDONA' | D107: 16 | E107: 7 | F107: 3 | G107: 12 | H107: 10 | I107: 6 | J107: 9 | K107: 4 | L107: 9 | M107: 11 | N107: =SUM(D107:M107) -> 87
A109: LIGA VENETA REPUBBLICA | B109: 1 | C109: ALESSIO MOROSIN | D109: 2 | E109: 2 | F109: 2 | G109: 1 | H109: 0 | I109: 1 | J109: 1 | K109: 5 | L109: 1 | M109: 0 | N109: =SUM(D109:M109) -> 15
B110: 2 | C110: MARTINA PELOSO | D110: 0 | E110: 0 | F110: 0 | G110: 0 | H110: 0 | I110: 0 | J110: 0 | K110: 1 | L110: 0 | M110: 0 | N110: =SUM(D110:M110) -> 1
B111: 3 | C111: MICHELE MUNARETTO | D111: 0 | E111: 0 | F111: 0 | G111: 0 | H111: 0 | I111: 0 | J111: 1 | K111: 0 | L111: 0 | M111: 0 | N111: =SUM(D111:M111) -> 1
B112: 4 | C112: MARZIA MAGAGNIN | D112: 0 | E112: 0 | F112: 0 | G112: 0 | H112: 0 | I112: 0 | J112: 0 | K112: 0 | L112: 0 | M112: 0 | N112: =SUM(D112:M112) -> 0
...
